BEGIN:VCALENDAR
VERSION:2.0
PRODID:-//Stratis iCal API//FR
CALSCALE:GREGORIAN
X-WR-CALNAME:ATELIERS MAEDEUP - NOEUDS TRADITIONNELS CORÉENS
BEGIN:VEVENT
UID:event-653
SUMMARY:ATELIERS MAEDEUP - NOEUDS TRADITIONNELS CORÉENS
DESCRIPTION:
DTSTAMP:20260420T121123Z
DTSTART:20261121T093000Z
DTEND:20261121T093000Z
STATUS:CONFIRMED
SEQUENCE:2
BEGIN:VALARM
TRIGGER:-PT30M
DESCRIPTION:ATELIERS MAEDEUP - NOEUDS TRADITIONNELS CORÉENS
ACTION:DISPLAY
END:VALARM
END:VEVENT
END:VCALENDAR