BEGIN:VCALENDAR
VERSION:2.0
PRODID:-//Stratis iCal API//FR
CALSCALE:GREGORIAN
X-WR-CALNAME:K-POP RANDOM DANCE CHALLENGE
BEGIN:VEVENT
UID:event-652
SUMMARY:K-POP RANDOM DANCE CHALLENGE
DESCRIPTION:
DTSTAMP:20260420T100004Z
DTSTART:20261003T123000Z
DTEND:20261003T123000Z
STATUS:CONFIRMED
SEQUENCE:2
BEGIN:VALARM
TRIGGER:-PT30M
DESCRIPTION:K-POP RANDOM DANCE CHALLENGE
ACTION:DISPLAY
END:VALARM
END:VEVENT
END:VCALENDAR