BEGIN:VCALENDAR
VERSION:2.0
PRODID:-//Stratis iCal API//FR
CALSCALE:GREGORIAN
X-WR-CALNAME:Projection exceptionnelle - "PARASITE" en version noir et blanc
BEGIN:VEVENT
UID:event-651
SUMMARY:Projection exceptionnelle - "PARASITE" en version noir et blanc
DESCRIPTION:
DTSTAMP:20260420T095528Z
DTSTART:20260926T183000Z
DTEND:20260926T183000Z
STATUS:CONFIRMED
SEQUENCE:3
BEGIN:VALARM
TRIGGER:-PT30M
DESCRIPTION:Projection exceptionnelle - "PARASITE" en version noir et blanc
ACTION:DISPLAY
END:VALARM
END:VEVENT
END:VCALENDAR