BEGIN:VCALENDAR
VERSION:2.0
PRODID:-//Stratis iCal API//FR
CALSCALE:GREGORIAN
X-WR-CALNAME:Après-midi thématique - CHUSEOK
BEGIN:VEVENT
UID:event-650
SUMMARY:Après-midi thématique - CHUSEOK
DESCRIPTION:
DTSTAMP:20260420T094346Z
DTSTART:20260926T120000Z
DTEND:20260926T120000Z
STATUS:CONFIRMED
SEQUENCE:8
BEGIN:VALARM
TRIGGER:-PT30M
DESCRIPTION:Après-midi thématique - CHUSEOK
ACTION:DISPLAY
END:VALARM
END:VEVENT
END:VCALENDAR