BEGIN:VCALENDAR
VERSION:2.0
PRODID:-//Stratis iCal API//FR
CALSCALE:GREGORIAN
X-WR-CALNAME:Voyage musical au Pays du Matin calme 
BEGIN:VEVENT
UID:event-649
SUMMARY:Voyage musical au Pays du Matin calme 
DESCRIPTION:
DTSTAMP:20260420T093829Z
DTSTART:20260621T123000Z
DTEND:20260621T123000Z
STATUS:CONFIRMED
SEQUENCE:8
BEGIN:VALARM
TRIGGER:-PT30M
DESCRIPTION:Voyage musical au Pays du Matin calme 
ACTION:DISPLAY
END:VALARM
END:VEVENT
END:VCALENDAR