BEGIN:VCALENDAR
VERSION:2.0
PRODID:-//Stratis iCal API//FR
CALSCALE:GREGORIAN
X-WR-CALNAME:Conférence avec Zuiou Shinozuka, Maître de danse traditionnelle de l’école Shinozuka-Ryū
BEGIN:VEVENT
UID:event-647
SUMMARY:Conférence avec Zuiou Shinozuka  Maître de danse traditionnelle de l’école Shinozuka-Ryū
DESCRIPTION:
DTSTAMP:20260420T090926Z
DTSTART:20260426T120000Z
DTEND:20260426T124500Z
STATUS:CONFIRMED
SEQUENCE:3
BEGIN:VALARM
TRIGGER:-PT30M
DESCRIPTION:Conférence avec Zuiou Shinozuka  Maître de danse traditionnelle de l’école Shinozuka-Ryū
ACTION:DISPLAY
END:VALARM
END:VEVENT
END:VCALENDAR