BEGIN:VCALENDAR
VERSION:2.0
PRODID:-//Stratis iCal API//FR
CALSCALE:GREGORIAN
X-WR-CALNAME:Visite contée « Voyage en Asie »
BEGIN:VEVENT
UID:event-634
SUMMARY:Visite contée « Voyage en Asie »
DESCRIPTION:De 3 à 7 ans
DTSTAMP:20260305T141615Z
DTSTART:20260311T130000Z
DTEND:20260311T140000Z
STATUS:CONFIRMED
SEQUENCE:3
BEGIN:VALARM
TRIGGER:-PT30M
DESCRIPTION:Visite contée « Voyage en Asie »
ACTION:DISPLAY
END:VALARM
END:VEVENT
END:VCALENDAR