BEGIN:VCALENDAR
VERSION:2.0
PRODID:-//Stratis iCal API//FR
CALSCALE:GREGORIAN
X-WR-CALNAME:Atelier "Histoires d’animaux" - Création d’ombres chinoises - À partir de 5 ans 
BEGIN:VEVENT
UID:event-461
SUMMARY:Atelier "Histoires d’animaux" - Création d’ombres chinoises - À partir de 5 ans 
DESCRIPTION:Partez à la découverte des animaux de Sanyu et mettez en scène vos propres histoires dans un théâtre d’ombres chinoises.
DTSTAMP:20250128T162233Z
DTSTART:20250219T133000Z
DTEND:20250219T150000Z
STATUS:CONFIRMED
SEQUENCE:9
BEGIN:VALARM
TRIGGER:-PT30M
DESCRIPTION:Atelier "Histoires d’animaux" - Création d’ombres chinoises - À partir de 5 ans 
ACTION:DISPLAY
END:VALARM
END:VEVENT
END:VCALENDAR